Workbook

Sheet Invoice Tracker
B2: Invoice Tracker | J2: As of | L2: 46318
B3: Juniper Hale Copywriting (illustrative sample) · USD | J3: type =TODAY() to keep it live
B5: OUTSTANDING | D5: OVERDUE | G5: OVERDUE INVOICES | I5: AVG DAYS TO PAY | K5: BIGGEST OVERDUE
B6: =SUM(I10:I60) | D6: =SUMIFS(I10:I60,K10:K60,"Overdue") | G6: =COUNTIF(K10:K60,"Overdue") | I6: =IFERROR(ROUND(AVERAGE(M10:M60),0),"–") | K6: =IFERROR(INDEX(C10:C60,MATCH(_xlfn.MAXIFS(L10:L60,K10:K60,"Overdue"),L10:L60,0))&" ("&_xlfn.MAXIFS(L10:L60,K10:K60,"Overdue")&" d)","None")
B9: Invoice # | C9: Client | D9: Issued | E9: Terms | F9: Due | G9: Amount | H9: Paid | I9: Balance | J9: Paid on | K9: Status | L9: Days over | M9: Days to pay
B10: INV-0231 | C10: Bramble & Oak Interiors | D10: 46206 | E10: 30 | F10: =IF(D10="","",D10+E10) | G10: 1200 | H10: 1200 | I10: =IF(G10="","",G10-N(H10)) | J10: 46231 | K10: =IF(G10="","",IF(I10<=0,"Paid",IF($L$2>F10,"Overdue",IF(N(H10)>0,"Part-paid","Open")))) | L10: =IF(K10="Overdue",$L$2-F10,"") | M10: =IF(AND(J10<>"",I10<=0),J10-D10,"")
B11: INV-0232 | C11: Cedar Point Vet Clinic | D11: 46218 | E11: 30 | F11: =IF(D11="","",D11+E11) | G11: 2450 | H11: 2450 | I11: =IF(G11="","",G11-N(H11)) | J11: 46254 | K11: =IF(G11="","",IF(I11<=0,"Paid",IF($L$2>F11,"Overdue",IF(N(H11)>0,"Part-paid","Open")))) | L11: =IF(K11="Overdue",$L$2-F11,"") | M11: =IF(AND(J11<>"",I11<=0),J11-D11,"")
B12: INV-0233 | C12: Saltmarsh Brewing | D12: 46232 | E12: 14 | F12: =IF(D12="","",D12+E12) | G12: 680 | H12: 680 | I12: =IF(G12="","",G12-N(H12)) | J12: 46243 | K12: =IF(G12="","",IF(I12<=0,"Paid",IF($L$2>F12,"Overdue",IF(N(H12)>0,"Part-paid","Open")))) | L12: =IF(K12="Overdue",$L$2-F12,"") | M12: =IF(AND(J12<>"",I12<=0),J12-D12,"")
B13: INV-0234 | C13: Kestrel Outdoor | D13: 46238 | E13: 30 | F13: =IF(D13="","",D13+E13) | G13: 1950 | H13: 1950 | I13: =IF(G13="","",G13-N(H13)) | J13: 46267 | K13: =IF(G13="","",IF(I13<=0,"Paid",IF($L$2>F13,"Overdue",IF(N(H13)>0,"Part-paid","Open")))) | L13: =IF(K13="Overdue",$L$2-F13,"") | M13: =IF(AND(J13<>"",I13<=0),J13-D13,"")
B14: INV-0235 | C14: Bramble & Oak Interiors | D14: 46252 | E14: 30 | F14: =IF(D14="","",D14+E14) | G14: 900 | H14: 900 | I14: =IF(G14="","",G14-N(H14)) | J14: 46280 | K14: =IF(G14="","",IF(I14<=0,"Paid",IF($L$2>F14,"Overdue",IF(N(H14)>0,"Part-paid","Open")))) | L14: =IF(K14="Overdue",$L$2-F14,"") | M14: =IF(AND(J14<>"",I14<=0),J14-D14,"")
B15: INV-0236 | C15: Northgate Physio | D15: 46259 | E15: 45 | F15: =IF(D15="","",D15+E15) | G15: 3200 | H15: 1600 | I15: =IF(G15="","",G15-N(H15)) | J15: 46295 | K15: =IF(G15="","",IF(I15<=0,"Paid",IF($L$2>F15,"Overdue",IF(N(H15)>0,"Part-paid","Open")))) | L15: =IF(K15="Overdue",$L$2-F15,"") | M15: =IF(AND(J15<>"",I15<=0),J15-D15,"")
B16: INV-0237 | C16: Cedar Point Vet Clinic | D16: 46266 | E16: 30 | F16: =IF(D16="","",D16+E16) | G16: 2450 | H16: 2450 | I16: =IF(G16="","",G16-N(H16)) | J16: 46308 | K16: =IF(G16="","",IF(I16<=0,"Paid",IF($L$2>F16,"Overdue",IF(N(H16)>0,"Part-paid","Open")))) | L16: =IF(K16="Overdue",$L$2-F16,"") | M16: =IF(AND(J16<>"",I16<=0),J16-D16,"")
B17: INV-0238 | C17: Saltmarsh Brewing | D17: 46273 | E17: 14 | F17: =IF(D17="","",D17+E17) | G17: 720 | I17: =IF(G17="","",G17-N(H17)) | K17: =IF(G17="","",IF(I17<=0,"Paid",IF($L$2>F17,"Overdue",IF(N(H17)>0,"Part-paid","Open")))) | L17: =IF(K17="Overdue",$L$2-F17,"") | M17: =IF(AND(J17<>"",I17<=0),J17-D17,"")
B18: INV-0239 | C18: Kestrel Outdoor | D18: 46281 | E18: 30 | F18: =IF(D18="","",D18+E18) | G18: 1600 | I18: =IF(G18="","",G18-N(H18)) | K18: =IF(G18="","",IF(I18<=0,"Paid",IF($L$2>F18,"Overdue",IF(N(H18)>0,"Part-paid","Open")))) | L18: =IF(K18="Overdue",$L$2-F18,"") | M18: =IF(AND(J18<>"",I18<=0),J18-D18,"")
B19: INV-0240 | C19: Ashby & Rowe Law | D19: 46287 | E19: 30 | F19: =IF(D19="","",D19+E19) | G19: 4100 | I19: =IF(G19="","",G19-N(H19)) | K19: =IF(G19="","",IF(I19<=0,"Paid",IF($L$2>F19,"Overdue",IF(N(H19)>0,"Part-paid","Open")))) | L19: =IF(K19="Overdue",$L$2-F19,"") | M19: =IF(AND(J19<>"",I19<=0),J19-D19,"")
B20: INV-0241 | C20: Bramble & Oak Interiors | D20: 46296 | E20: 30 | F20: =IF(D20="","",D20+E20) | G20: 1050 | I20: =IF(G20="","",G20-N(H20)) | K20: =IF(G20="","",IF(I20<=0,"Paid",IF($L$2>F20,"Overdue",IF(N(H20)>0,"Part-paid","Open")))) | L20: =IF(K20="Overdue",$L$2-F20,"") | M20: =IF(AND(J20<>"",I20<=0),J20-D20,"")
B21: INV-0242 | C21: Northgate Physio | D21: 46301 | E21: 45 | F21: =IF(D21="","",D21+E21) | G21: 2200 | I21: =IF(G21="","",G21-N(H21)) | K21: =IF(G21="","",IF(I21<=0,"Paid",IF($L$2>F21,"Overdue",IF(N(H21)>0,"Part-paid","Open")))) | L21: =IF(K21="Overdue",$L$2-F21,"") | M21: =IF(AND(J21<>"",I21<=0),J21-D21,"")
B22: INV-0243 | C22: Cedar Point Vet Clinic | D22: 46309 | E22: 30 | F22: =IF(D22="","",D22+E22) | G22: 2450 | I22: =IF(G22="","",G22-N(H22)) | K22: =IF(G22="","",IF(I22<=0,"Paid",IF($L$2>F22,"Overdue",IF(N(H22)>0,"Part-paid","Open")))) | L22: =IF(K22="Overdue",$L$2-F22,"") | M22: =IF(AND(J22<>"",I22<=0),J22-D22,"")
B23: INV-0244 | C23: Ashby & Rowe Law | D23: 46315 | E23: 30 | F23: =IF(D23="","",D23+E23) | G23: 1850 | I23: =IF(G23="","",G23-N(H23)) | K23: =IF(G23="","",IF(I23<=0,"Paid",IF($L$2>F23,"Overdue",IF(N(H23)>0,"Part-paid","Open")))) | L23: =IF(K23="Overdue",$L$2-F23,"") | M23: =IF(AND(J23<>"",I23<=0),J23-D23,"")
F24: =IF(D24="","",D24+E24) | I24: =IF(G24="","",G24-N(H24)) | K24: =IF(G24="","",IF(I24<=0,"Paid",IF($L$2>F24,"Overdue",IF(N(H24)>0,"Part-paid","Open")))) | L24: =IF(K24="Overdue",$L$2-F24,"") | M24: =IF(AND(J24<>"",I24<=0),J24-D24,"")
F25: =IF(D25="","",D25+E25) | I25: =IF(G25="","",G25-N(H25)) | K25: =IF(G25="","",IF(I25<=0,"Paid",IF($L$2>F25,"Overdue",IF(N(H25)>0,"Part-paid","Open")))) | L25: =IF(K25="Overdue",$L$2-F25,"") | M25: =IF(AND(J25<>"",I25<=0),J25-D25,"")
F26: =IF(D26="","",D26+E26) | I26: =IF(G26="","",G26-N(H26)) | K26: =IF(G26="","",IF(I26<=0,"Paid",IF($L$2>F26,"Overdue",IF(N(H26)>0,"Part-paid","Open")))) | L26: =IF(K26="Overdue",$L$2-F26,"") | M26: =IF(AND(J26<>"",I26<=0),J26-D26,"")
F27: =IF(D27="","",D27+E27) | I27: =IF(G27="","",G27-N(H27)) | K27: =IF(G27="","",IF(I27<=0,"Paid",IF($L$2>F27,"Overdue",IF(N(H27)>0,"Part-paid","Open")))) | L27: =IF(K27="Overdue",$L$2-F27,"") | M27: =IF(AND(J27<>"",I27<=0),J27-D27,"")
F28: =IF(D28="","",D28+E28) | I28: =IF(G28="","",G28-N(H28)) | K28: =IF(G28="","",IF(I28<=0,"Paid",IF($L$2>F28,"Overdue",IF(N(H28)>0,"Part-paid","Open")))) | L28: =IF(K28="Overdue",$L$2-F28,"") | M28: =IF(AND(J28<>"",I28<=0),J28-D28,"")
F29: =IF(D29="","",D29+E29) | I29: =IF(G29="","",G29-N(H29)) | K29: =IF(G29="","",IF(I29<=0,"Paid",IF($L$2>F29,"Overdue",IF(N(H29)>0,"Part-paid","Open")))) | L29: =IF(K29="Overdue",$L$2-F29,"") | M29: =IF(AND(J29<>"",I29<=0),J29-D29,"")
F30: =IF(D30="","",D30+E30) | I30: =IF(G30="","",G30-N(H30)) | K30: =IF(G30="","",IF(I30<=0,"Paid",IF($L$2>F30,"Overdue",IF(N(H30)>0,"Part-paid","Open")))) | L30: =IF(K30="Overdue",$L$2-F30,"") | M30: =IF(AND(J30<>"",I30<=0),J30-D30,"")
F31: =IF(D31="","",D31+E31) | I31: =IF(G31="","",G31-N(H31)) | K31: =IF(G31="","",IF(I31<=0,"Paid",IF($L$2>F31,"Overdue",IF(N(H31)>0,"Part-paid","Open")))) | L31: =IF(K31="Overdue",$L$2-F31,"") | M31: =IF(AND(J31<>"",I31<=0),J31-D31,"")
F32: =IF(D32="","",D32+E32) | I32: =IF(G32="","",G32-N(H32)) | K32: =IF(G32="","",IF(I32<=0,"Paid",IF($L$2>F32,"Overdue",IF(N(H32)>0,"Part-paid","Open")))) | L32: =IF(K32="Overdue",$L$2-F32,"") | M32: =IF(AND(J32<>"",I32<=0),J32-D32,"")
F33: =IF(D33="","",D33+E33) | I33: =IF(G33="","",G33-N(H33)) | K33: =IF(G33="","",IF(I33<=0,"Paid",IF($L$2>F33,"Overdue",IF(N(H33)>0,"Part-paid","Open")))) | L33: =IF(K33="Overdue",$L$2-F33,"") | M33: =IF(AND(J33<>"",I33<=0),J33-D33,"")
F34: =IF(D34="","",D34+E34) | I34: =IF(G34="","",G34-N(H34)) | K34: =IF(G34="","",IF(I34<=0,"Paid",IF($L$2>F34,"Overdue",IF(N(H34)>0,"Part-paid","Open")))) | L34: =IF(K34="Overdue",$L$2-F34,"") | M34: =IF(AND(J34<>"",I34<=0),J34-D34,"")
F35: =IF(D35="","",D35+E35) | I35: =IF(G35="","",G35-N(H35)) | K35: =IF(G35="","",IF(I35<=0,"Paid",IF($L$2>F35,"Overdue",IF(N(H35)>0,"Part-paid","Open")))) | L35: =IF(K35="Overdue",$L$2-F35,"") | M35: =IF(AND(J35<>"",I35<=0),J35-D35,"")
... F49: =IF(D49="","",D49+E49) | I49: =IF(G49="","",G49-N(H49)) | K49: =IF(G49="","",IF(I49<=0,"Paid",IF($L$2>F49,"Overdue",IF(N(H49)>0,"Part-paid","Open")))) | L49: =IF(K49="Overdue",$L$2-F49,"") | M49: =IF(AND(J49<>"",I49<=0),J49-D49,"")

Sheet By Client
B2: Invoices by client
B3: ='Invoice Tracker'!B3
B5: Client | C5: Billed | D5: Paid | E5: Outstanding | F5: Overdue | G5: Avg days to pay
B6: Ashby & Rowe Law | C6: =SUMIFS('Invoice Tracker'!$G$10:$G$49,'Invoice Tracker'!$C$10:$C$49,B6) | D6: =SUMIFS('Invoice Tracker'!$H$10:$H$49,'Invoice Tracker'!$C$10:$C$49,B6) | E6: =C6-D6 | F6: =SUMIFS('Invoice Tracker'!$I$10:$I$49,'Invoice Tracker'!$C$10:$C$49,B6,'Invoice Tracker'!$K$10:$K$49,"Overdue") | G6: =IFERROR(ROUND(AVERAGEIFS('Invoice Tracker'!$M$10:$M$49,'Invoice Tracker'!$C$10:$C$49,B6),0),"–")
B7: Bramble & Oak Interiors | C7: =SUMIFS('Invoice Tracker'!$G$10:$G$49,'Invoice Tracker'!$C$10:$C$49,B7) | D7: =SUMIFS('Invoice Tracker'!$H$10:$H$49,'Invoice Tracker'!$C$10:$C$49,B7) | E7: =C7-D7 | F7: =SUMIFS('Invoice Tracker'!$I$10:$I$49,'Invoice Tracker'!$C$10:$C$49,B7,'Invoice Tracker'!$K$10:$K$49,"Overdue") | G7: =IFERROR(ROUND(AVERAGEIFS('Invoice Tracker'!$M$10:$M$49,'Invoice Tracker'!$C$10:$C$49,B7),0),"–")
B8: Cedar Point Vet Clinic | C8: =SUMIFS('Invoice Tracker'!$G$10:$G$49,'Invoice Tracker'!$C$10:$C$49,B8) | D8: =SUMIFS('Invoice Tracker'!$H$10:$H$49,'Invoice Tracker'!$C$10:$C$49,B8) | E8: =C8-D8 | F8: =SUMIFS('Invoice Tracker'!$I$10:$I$49,'Invoice Tracker'!$C$10:$C$49,B8,'Invoice Tracker'!$K$10:$K$49,"Overdue") | G8: =IFERROR(ROUND(AVERAGEIFS('Invoice Tracker'!$M$10:$M$49,'Invoice Tracker'!$C$10:$C$49,B8),0),"–")
B9: Kestrel Outdoor | C9: =SUMIFS('Invoice Tracker'!$G$10:$G$49,'Invoice Tracker'!$C$10:$C$49,B9) | D9: =SUMIFS('Invoice Tracker'!$H$10:$H$49,'Invoice Tracker'!$C$10:$C$49,B9) | E9: =C9-D9 | F9: =SUMIFS('Invoice Tracker'!$I$10:$I$49,'Invoice Tracker'!$C$10:$C$49,B9,'Invoice Tracker'!$K$10:$K$49,"Overdue") | G9: =IFERROR(ROUND(AVERAGEIFS('Invoice Tracker'!$M$10:$M$49,'Invoice Tracker'!$C$10:$C$49,B9),0),"–")
B10: Northgate Physio | C10: =SUMIFS('Invoice Tracker'!$G$10:$G$49,'Invoice Tracker'!$C$10:$C$49,B10) | D10: =SUMIFS('Invoice Tracker'!$H$10:$H$49,'Invoice Tracker'!$C$10:$C$49,B10) | E10: =C10-D10 | F10: =SUMIFS('Invoice Tracker'!$I$10:$I$49,'Invoice Tracker'!$C$10:$C$49,B10,'Invoice Tracker'!$K$10:$K$49,"Overdue") | G10: =IFERROR(ROUND(AVERAGEIFS('Invoice Tracker'!$M$10:$M$49,'Invoice Tracker'!$C$10:$C$49,B10),0),"–")
B11: Saltmarsh Brewing | C11: =SUMIFS('Invoice Tracker'!$G$10:$G$49,'Invoice Tracker'!$C$10:$C$49,B11) | D11: =SUMIFS('Invoice Tracker'!$H$10:$H$49,'Invoice Tracker'!$C$10:$C$49,B11) | E11: =C11-D11 | F11: =SUMIFS('Invoice Tracker'!$I$10:$I$49,'Invoice Tracker'!$C$10:$C$49,B11,'Invoice Tracker'!$K$10:$K$49,"Overdue") | G11: =IFERROR(ROUND(AVERAGEIFS('Invoice Tracker'!$M$10:$M$49,'Invoice Tracker'!$C$10:$C$49,B11),0),"–")
B12: Total | C12: =SUM(C6:C11) | D12: =SUM(D6:D11) | E12: =SUM(E6:E11) | F12: =SUM(F6:F11)
