Workbook

Sheet Chart of Accounts
B2: General Ledger · Chart of Accounts & Balances
B3: Larkspur Studio LLC (illustrative sample) · Period: 1–31 October 2026 · Currency: USD
B6: Code | C6: Account | D6: Type | E6: Normal | F6: Opening | G6: Debits | H6: Credits | I6: Closing
B7: 1000 | C7: Cash – operating account | D7: Asset | E7: Debit | F7: 18450 | G7: =SUMIFS('General Ledger'!$F$7:$F$80,'General Ledger'!$B$7:$B$80,B7) | H7: =SUMIFS('General Ledger'!$G$7:$G$80,'General Ledger'!$B$7:$B$80,B7) | I7: =IF(E7="Debit",F7+G7-H7,F7-G7+H7)
B8: 1100 | C8: Accounts receivable | D8: Asset | E8: Debit | F8: 9600 | G8: =SUMIFS('General Ledger'!$F$7:$F$80,'General Ledger'!$B$7:$B$80,B8) | H8: =SUMIFS('General Ledger'!$G$7:$G$80,'General Ledger'!$B$7:$B$80,B8) | I8: =IF(E8="Debit",F8+G8-H8,F8-G8+H8)
B9: 1500 | C9: Computer equipment | D9: Asset | E9: Debit | F9: 7200 | G9: =SUMIFS('General Ledger'!$F$7:$F$80,'General Ledger'!$B$7:$B$80,B9) | H9: =SUMIFS('General Ledger'!$G$7:$G$80,'General Ledger'!$B$7:$B$80,B9) | I9: =IF(E9="Debit",F9+G9-H9,F9-G9+H9)
B10: 2000 | C10: Accounts payable | D10: Liability | E10: Credit | F10: 2150 | G10: =SUMIFS('General Ledger'!$F$7:$F$80,'General Ledger'!$B$7:$B$80,B10) | H10: =SUMIFS('General Ledger'!$G$7:$G$80,'General Ledger'!$B$7:$B$80,B10) | I10: =IF(E10="Debit",F10+G10-H10,F10-G10+H10)
B11: 2100 | C11: Credit card payable | D11: Liability | E11: Credit | F11: 1340 | G11: =SUMIFS('General Ledger'!$F$7:$F$80,'General Ledger'!$B$7:$B$80,B11) | H11: =SUMIFS('General Ledger'!$G$7:$G$80,'General Ledger'!$B$7:$B$80,B11) | I11: =IF(E11="Debit",F11+G11-H11,F11-G11+H11)
B12: 3000 | C12: Owner's equity | D12: Equity | E12: Credit | F12: 31760 | G12: =SUMIFS('General Ledger'!$F$7:$F$80,'General Ledger'!$B$7:$B$80,B12) | H12: =SUMIFS('General Ledger'!$G$7:$G$80,'General Ledger'!$B$7:$B$80,B12) | I12: =IF(E12="Debit",F12+G12-H12,F12-G12+H12)
B13: 4000 | C13: Design revenue | D13: Revenue | E13: Credit | F13: 0 | G13: =SUMIFS('General Ledger'!$F$7:$F$80,'General Ledger'!$B$7:$B$80,B13) | H13: =SUMIFS('General Ledger'!$G$7:$G$80,'General Ledger'!$B$7:$B$80,B13) | I13: =IF(E13="Debit",F13+G13-H13,F13-G13+H13)
B14: 5100 | C14: Studio rent | D14: Expense | E14: Debit | F14: 0 | G14: =SUMIFS('General Ledger'!$F$7:$F$80,'General Ledger'!$B$7:$B$80,B14) | H14: =SUMIFS('General Ledger'!$G$7:$G$80,'General Ledger'!$B$7:$B$80,B14) | I14: =IF(E14="Debit",F14+G14-H14,F14-G14+H14)
B15: 5200 | C15: Software subscriptions | D15: Expense | E15: Debit | F15: 0 | G15: =SUMIFS('General Ledger'!$F$7:$F$80,'General Ledger'!$B$7:$B$80,B15) | H15: =SUMIFS('General Ledger'!$G$7:$G$80,'General Ledger'!$B$7:$B$80,B15) | I15: =IF(E15="Debit",F15+G15-H15,F15-G15+H15)
B16: 5300 | C16: Freelance contractors | D16: Expense | E16: Debit | F16: 0 | G16: =SUMIFS('General Ledger'!$F$7:$F$80,'General Ledger'!$B$7:$B$80,B16) | H16: =SUMIFS('General Ledger'!$G$7:$G$80,'General Ledger'!$B$7:$B$80,B16) | I16: =IF(E16="Debit",F16+G16-H16,F16-G16+H16)
B17: 5400 | C17: Utilities & internet | D17: Expense | E17: Debit | F17: 0 | G17: =SUMIFS('General Ledger'!$F$7:$F$80,'General Ledger'!$B$7:$B$80,B17) | H17: =SUMIFS('General Ledger'!$G$7:$G$80,'General Ledger'!$B$7:$B$80,B17) | I17: =IF(E17="Debit",F17+G17-H17,F17-G17+H17)
B18: 5500 | C18: Bank fees | D18: Expense | E18: Debit | F18: 0 | G18: =SUMIFS('General Ledger'!$F$7:$F$80,'General Ledger'!$B$7:$B$80,B18) | H18: =SUMIFS('General Ledger'!$G$7:$G$80,'General Ledger'!$B$7:$B$80,B18) | I18: =IF(E18="Debit",F18+G18-H18,F18-G18+H18)
C19: Totals | F19: =SUMIFS(F7:F18,E7:E18,"Debit")-SUMIFS(F7:F18,E7:E18,"Credit") | G19: =SUM(G7:G18) | H19: =SUM(H7:H18) | I19: =SUMIFS(I7:I18,E7:E18,"Debit")-SUMIFS(I7:I18,E7:E18,"Credit")
C21: Ledger check | D21: =IF(AND(ROUND(G19-H19,2)=0,ROUND(I19,2)=0),"✓ Balanced: debits equal credits and closing balances net to zero","✗ Out of balance by "&TEXT(G19-H19,"#,##0.00"))
C22: Net income (Oct) | D22: =SUMIFS(I7:I18,D7:D18,"Revenue")-SUMIFS(I7:I18,D7:D18,"Expense") | E22: Revenue closing balance minus expense closing balances. Feeds your P&L.

Sheet General Ledger
B2: General Ledger
B3: Larkspur Studio LLC (illustrative) · October 2026 · grouped by account, posted from the journal
B4: ="Total debits "&TEXT(SUM(F7:F80),"#,##0.00")&" · Total credits "&TEXT(SUM(G7:G80),"#,##0.00")&" · "&IF(ROUND(SUM(F7:F80)-SUM(G7:G80),2)=0,"in balance","OUT OF BALANCE")
B6: Account | C6: Date | D6: Ref | E6: Description | F6: Debit | G6: Credit | H6: Balance
B7: 1000 | C7: 46296 | E7: =INDEX('Chart of Accounts'!$C$7:$C$30,MATCH(B7,'Chart of Accounts'!$B$7:$B$30,0))&" · opening balance" | H7: =INDEX('Chart of Accounts'!$F$7:$F$30,MATCH(B7,'Chart of Accounts'!$B$7:$B$30,0))
B8: 1000 | C8: 46296 | D8: JE-101 | E8: October studio rent | G8: 2400 | H8: =H7+IF(INDEX('Chart of Accounts'!$E$7:$E$30,MATCH(B8,'Chart of Accounts'!$B$7:$B$30,0))="Debit",N(F8)-N(G8),N(G8)-N(F8))
B9: 1000 | C9: 46301 | D9: JE-104 | E9: Receipt – inv 1038, Quarry Lane Dental | F9: 4200 | H9: =H8+IF(INDEX('Chart of Accounts'!$E$7:$E$30,MATCH(B9,'Chart of Accounts'!$B$7:$B$30,0))="Debit",N(F9)-N(G9),N(G9)-N(F9))
B10: 1000 | C10: 46307 | D10: JE-107 | E10: Paid AP – September contractor bills | G10: 2150 | H10: =H9+IF(INDEX('Chart of Accounts'!$E$7:$E$30,MATCH(B10,'Chart of Accounts'!$B$7:$B$30,0))="Debit",N(F10)-N(G10),N(G10)-N(F10))
B11: 1000 | C11: 46309 | D11: JE-108 | E11: Fiber internet + power | G11: 326.4 | H11: =H10+IF(INDEX('Chart of Accounts'!$E$7:$E$30,MATCH(B11,'Chart of Accounts'!$B$7:$B$30,0))="Debit",N(F11)-N(G11),N(G11)-N(F11))
B12: 1000 | C12: 46310 | D12: JE-109 | E12: Receipt – inv 1041, Fernhill Bakery | F12: 6800 | H12: =H11+IF(INDEX('Chart of Accounts'!$E$7:$E$30,MATCH(B12,'Chart of Accounts'!$B$7:$B$30,0))="Debit",N(F12)-N(G12),N(G12)-N(F12))
B13: 1000 | C13: 46317 | D13: JE-111 | E13: Credit card statement paid | G13: 1340 | H13: =H12+IF(INDEX('Chart of Accounts'!$E$7:$E$30,MATCH(B13,'Chart of Accounts'!$B$7:$B$30,0))="Debit",N(F13)-N(G13),N(G13)-N(F13))
B14: 1000 | C14: 46326 | D14: JE-113 | E14: Monthly account fee | G14: 18 | H14: =H13+IF(INDEX('Chart of Accounts'!$E$7:$E$30,MATCH(B14,'Chart of Accounts'!$B$7:$B$30,0))="Debit",N(F14)-N(G14),N(G14)-N(F14))
B15: 1100 | C15: 46296 | E15: =INDEX('Chart of Accounts'!$C$7:$C$30,MATCH(B15,'Chart of Accounts'!$B$7:$B$30,0))&" · opening balance" | H15: =INDEX('Chart of Accounts'!$F$7:$F$30,MATCH(B15,'Chart of Accounts'!$B$7:$B$30,0))
B16: 1100 | C16: 46297 | D16: JE-102 | E16: Invoice 1041 – Fernhill Bakery rebrand | F16: 6800 | H16: =H15+IF(INDEX('Chart of Accounts'!$E$7:$E$30,MATCH(B16,'Chart of Accounts'!$B$7:$B$30,0))="Debit",N(F16)-N(G16),N(G16)-N(F16))
B17: 1100 | C17: 46301 | D17: JE-104 | E17: Receipt – inv 1038, Quarry Lane Dental | G17: 4200 | H17: =H16+IF(INDEX('Chart of Accounts'!$E$7:$E$30,MATCH(B17,'Chart of Accounts'!$B$7:$B$30,0))="Debit",N(F17)-N(G17),N(G17)-N(F17))
B18: 1100 | C18: 46304 | D18: JE-106 | E18: Invoice 1042 – Tidewater Co-op website | F18: 9400 | H18: =H17+IF(INDEX('Chart of Accounts'!$E$7:$E$30,MATCH(B18,'Chart of Accounts'!$B$7:$B$30,0))="Debit",N(F18)-N(G18),N(G18)-N(F18))
B19: 1100 | C19: 46310 | D19: JE-109 | E19: Receipt – inv 1041, Fernhill Bakery | G19: 6800 | H19: =H18+IF(INDEX('Chart of Accounts'!$E$7:$E$30,MATCH(B19,'Chart of Accounts'!$B$7:$B$30,0))="Debit",N(F19)-N(G19),N(G19)-N(F19))
B20: 1100 | C20: 46322 | D20: JE-112 | E20: Invoice 1043 – Marlow Books catalog | F20: 3250 | H20: =H19+IF(INDEX('Chart of Accounts'!$E$7:$E$30,MATCH(B20,'Chart of Accounts'!$B$7:$B$30,0))="Debit",N(F20)-N(G20),N(G20)-N(F20))
B21: 1500 | C21: 46296 | E21: =INDEX('Chart of Accounts'!$C$7:$C$30,MATCH(B21,'Chart of Accounts'!$B$7:$B$30,0))&" · opening balance" | H21: =INDEX('Chart of Accounts'!$F$7:$F$30,MATCH(B21,'Chart of Accounts'!$B$7:$B$30,0))
B22: 1500 | C22: 46315 | D22: JE-110 | E22: New 27" display (card) | F22: 649 | H22: =H21+IF(INDEX('Chart of Accounts'!$E$7:$E$30,MATCH(B22,'Chart of Accounts'!$B$7:$B$30,0))="Debit",N(F22)-N(G22),N(G22)-N(F22))
B23: 2000 | C23: 46296 | E23: =INDEX('Chart of Accounts'!$C$7:$C$30,MATCH(B23,'Chart of Accounts'!$B$7:$B$30,0))&" · opening balance" | H23: =INDEX('Chart of Accounts'!$F$7:$F$30,MATCH(B23,'Chart of Accounts'!$B$7:$B$30,0))
B24: 2000 | C24: 46303 | D24: JE-105 | E24: Contractor – M. Osei, illustration | G24: 1850 | H24: =H23+IF(INDEX('Chart of Accounts'!$E$7:$E$30,MATCH(B24,'Chart of Accounts'!$B$7:$B$30,0))="Debit",N(F24)-N(G24),N(G24)-N(F24))
B25: 2000 | C25: 46307 | D25: JE-107 | E25: Paid AP – September contractor bills | F25: 2150 | H25: =H24+IF(INDEX('Chart of Accounts'!$E$7:$E$30,MATCH(B25,'Chart of Accounts'!$B$7:$B$30,0))="Debit",N(F25)-N(G25),N(G25)-N(F25))
B26: 2100 | C26: 46296 | E26: =INDEX('Chart of Accounts'!$C$7:$C$30,MATCH(B26,'Chart of Accounts'!$B$7:$B$30,0))&" · opening balance" | H26: =INDEX('Chart of Accounts'!$F$7:$F$30,MATCH(B26,'Chart of Accounts'!$B$7:$B$30,0))
B27: 2100 | C27: 46298 | D27: JE-103 | E27: Adobe + Figma annual seats (card) | G27: 1188 | H27: =H26+IF(INDEX('Chart of Accounts'!$E$7:$E$30,MATCH(B27,'Chart of Accounts'!$B$7:$B$30,0))="Debit",N(F27)-N(G27),N(G27)-N(F27))
B28: 2100 | C28: 46315 | D28: JE-110 | E28: New 27" display (card) | G28: 649 | H28: =H27+IF(INDEX('Chart of Accounts'!$E$7:$E$30,MATCH(B28,'Chart of Accounts'!$B$7:$B$30,0))="Debit",N(F28)-N(G28),N(G28)-N(F28))
B29: 2100 | C29: 46317 | D29: JE-111 | E29: Credit card statement paid | F29: 1340 | H29: =H28+IF(INDEX('Chart of Accounts'!$E$7:$E$30,MATCH(B29,'Chart of Accounts'!$B$7:$B$30,0))="Debit",N(F29)-N(G29),N(G29)-N(F29))
B30: 4000 | C30: 46296 | E30: =INDEX('Chart of Accounts'!$C$7:$C$30,MATCH(B30,'Chart of Accounts'!$B$7:$B$30,0))&" · opening balance" | H30: =INDEX('Chart of Accounts'!$F$7:$F$30,MATCH(B30,'Chart of Accounts'!$B$7:$B$30,0))
B31: 4000 | C31: 46297 | D31: JE-102 | E31: Invoice 1041 – Fernhill Bakery rebrand | G31: 6800 | H31: =H30+IF(INDEX('Chart of Accounts'!$E$7:$E$30,MATCH(B31,'Chart of Accounts'!$B$7:$B$30,0))="Debit",N(F31)-N(G31),N(G31)-N(F31))
B32: 4000 | C32: 46304 | D32: JE-106 | E32: Invoice 1042 – Tidewater Co-op website | G32: 9400 | H32: =H31+IF(INDEX('Chart of Accounts'!$E$7:$E$30,MATCH(B32,'Chart of Accounts'!$B$7:$B$30,0))="Debit",N(F32)-N(G32),N(G32)-N(F32))
B33: 4000 | C33: 46322 | D33: JE-112 | E33: Invoice 1043 – Marlow Books catalog | G33: 3250 | H33: =H32+IF(INDEX('Chart of Accounts'!$E$7:$E$30,MATCH(B33,'Chart of Accounts'!$B$7:$B$30,0))="Debit",N(F33)-N(G33),N(G33)-N(F33))
B34: 5100 | C34: 46296 | E34: =INDEX('Chart of Accounts'!$C$7:$C$30,MATCH(B34,'Chart of Accounts'!$B$7:$B$30,0))&" · opening balance" | H34: =INDEX('Chart of Accounts'!$F$7:$F$30,MATCH(B34,'Chart of Accounts'!$B$7:$B$30,0))
B35: 5100 | C35: 46296 | D35: JE-101 | E35: October studio rent | F35: 2400 | H35: =H34+IF(INDEX('Chart of Accounts'!$E$7:$E$30,MATCH(B35,'Chart of Accounts'!$B$7:$B$30,0))="Debit",N(F35)-N(G35),N(G35)-N(F35))
B36: 5200 | C36: 46296 | E36: =INDEX('Chart of Accounts'!$C$7:$C$30,MATCH(B36,'Chart of Accounts'!$B$7:$B$30,0))&" · opening balance" | H36: =INDEX('Chart of Accounts'!$F$7:$F$30,MATCH(B36,'Chart of Accounts'!$B$7:$B$30,0))
B37: 5200 | C37: 46298 | D37: JE-103 | E37: Adobe + Figma annual seats (card) | F37: 1188 | H37: =H36+IF(INDEX('Chart of Accounts'!$E$7:$E$30,MATCH(B37,'Chart of Accounts'!$B$7:$B$30,0))="Debit",N(F37)-N(G37),N(G37)-N(F37))
B38: 5300 | C38: 46296 | E38: =INDEX('Chart of Accounts'!$C$7:$C$30,MATCH(B38,'Chart of Accounts'!$B$7:$B$30,0))&" · opening balance" | H38: =INDEX('Chart of Accounts'!$F$7:$F$30,MATCH(B38,'Chart of Accounts'!$B$7:$B$30,0))
B39: 5300 | C39: 46303 | D39: JE-105 | E39: Contractor – M. Osei, illustration | F39: 1850 | H39: =H38+IF(INDEX('Chart of Accounts'!$E$7:$E$30,MATCH(B39,'Chart of Accounts'!$B$7:$B$30,0))="Debit",N(F39)-N(G39),N(G39)-N(F39))
B40: 5400 | C40: 46296 | E40: =INDEX('Chart of Accounts'!$C$7:$C$30,MATCH(B40,'Chart of Accounts'!$B$7:$B$30,0))&" · opening balance" | H40: =INDEX('Chart of Accounts'!$F$7:$F$30,MATCH(B40,'Chart of Accounts'!$B$7:$B$30,0))
B41: 5400 | C41: 46309 | D41: JE-108 | E41: Fiber internet + power | F41: 326.4 | H41: =H40+IF(INDEX('Chart of Accounts'!$E$7:$E$30,MATCH(B41,'Chart of Accounts'!$B$7:$B$30,0))="Debit",N(F41)-N(G41),N(G41)-N(F41))
B42: 5500 | C42: 46296 | E42: =INDEX('Chart of Accounts'!$C$7:$C$30,MATCH(B42,'Chart of Accounts'!$B$7:$B$30,0))&" · opening balance" | H42: =INDEX('Chart of Accounts'!$F$7:$F$30,MATCH(B42,'Chart of Accounts'!$B$7:$B$30,0))
...

Sheet Journal
B2: Journal entries (source list)
B3: One line per entry: the debit account, the credit account and the amount. Post each entry as two lines on the General Ledger tab.
B5: Date | C5: Ref | D5: Description | E5: Debit acct | F5: Credit acct | G5: Amount
B6: 46296 | C6: JE-101 | D6: October studio rent | E6: 5100 | F6: 1000 | G6: 2400
B7: 46297 | C7: JE-102 | D7: Invoice 1041 – Fernhill Bakery rebrand | E7: 1100 | F7: 4000 | G7: 6800
B8: 46298 | C8: JE-103 | D8: Adobe + Figma annual seats (card) | E8: 5200 | F8: 2100 | G8: 1188
B9: 46301 | C9: JE-104 | D9: Receipt – inv 1038, Quarry Lane Dental | E9: 1000 | F9: 1100 | G9: 4200
B10: 46303 | C10: JE-105 | D10: Contractor – M. Osei, illustration | E10: 5300 | F10: 2000 | G10: 1850
B11: 46304 | C11: JE-106 | D11: Invoice 1042 – Tidewater Co-op website | E11: 1100 | F11: 4000 | G11: 9400
B12: 46307 | C12: JE-107 | D12: Paid AP – September contractor bills | E12: 2000 | F12: 1000 | G12: 2150
B13: 46309 | C13: JE-108 | D13: Fiber internet + power | E13: 5400 | F13: 1000 | G13: 326.4
B14: 46310 | C14: JE-109 | D14: Receipt – inv 1041, Fernhill Bakery | E14: 1000 | F14: 1100 | G14: 6800
B15: 46315 | C15: JE-110 | D15: New 27" display (card) | E15: 1500 | F15: 2100 | G15: 649
B16: 46317 | C16: JE-111 | D16: Credit card statement paid | E16: 2100 | F16: 1000 | G16: 1340
B17: 46322 | C17: JE-112 | D17: Invoice 1043 – Marlow Books catalog | E17: 1100 | F17: 4000 | G17: 3250
B18: 46326 | C18: JE-113 | D18: Monthly account fee | E18: 5500 | F18: 1000 | G18: 18
D19: Total posted | G19: =SUM(G6:G18)
D20: Check vs ledger debits | G20: =IF(ROUND(G19-SUM('General Ledger'!F7:F80),2)=0,"Matches","Check")
